BEGIN:VCALENDAR
VERSION:2.0
PRODID:-//Alliance Franco-Italienne de Midi-Pyrénées - ECPv6.13.1//NONSGML v1.0//EN
CALSCALE:GREGORIAN
METHOD:PUBLISH
X-ORIGINAL-URL:https://www.alliancefranco-italienne.com
X-WR-CALDESC:Évènements pour Alliance Franco-Italienne de Midi-Pyrénées
REFRESH-INTERVAL;VALUE=DURATION:PT1H
X-Robots-Tag:noindex
X-PUBLISHED-TTL:PT1H
BEGIN:VTIMEZONE
TZID:Europe/Paris
BEGIN:DAYLIGHT
TZOFFSETFROM:+0100
TZOFFSETTO:+0200
TZNAME:CEST
DTSTART:20240331T010000
END:DAYLIGHT
BEGIN:STANDARD
TZOFFSETFROM:+0200
TZOFFSETTO:+0100
TZNAME:CET
DTSTART:20241027T010000
END:STANDARD
END:VTIMEZONE
BEGIN:VEVENT
DTSTART;TZID=Europe/Paris:20240516T143000
DTEND;TZID=Europe/Paris:20240516T160000
DTSTAMP:20260422T103443
CREATED:20240419T164228Z
LAST-MODIFIED:20240419T164228Z
UID:22548-1715869800-1715875200@www.alliancefranco-italienne.com
SUMMARY:Lo Scarabeo di maggio
DESCRIPTION:
URL:https://www.alliancefranco-italienne.com/event/lo-scarabeo-di-maggio/
LOCATION:Castelginest – Salle Adrienne Boueilh (salle des cours)\, 3 rue des Écoles\, Castelginest\, 31780\, France
CATEGORIES:Scarabeo
ATTACH;FMTTYPE=image/png:https://www.alliancefranco-italienne.com/wp-content/uploads/2018/05/Scarabeo.png
ORGANIZER;CN="Alliance Franco-Italienne - Scarabeo":MAILTO:prenotazioneclub@orange.fr
END:VEVENT
END:VCALENDAR