BEGIN:VCALENDAR
VERSION:2.0
PRODID:-//Alliance Franco-Italienne de Midi-Pyrénées - ECPv6.13.1//NONSGML v1.0//EN
CALSCALE:GREGORIAN
METHOD:PUBLISH
X-WR-CALNAME:Alliance Franco-Italienne de Midi-Pyrénées
X-ORIGINAL-URL:https://www.alliancefranco-italienne.com
X-WR-CALDESC:Évènements pour Alliance Franco-Italienne de Midi-Pyrénées
REFRESH-INTERVAL;VALUE=DURATION:PT1H
X-Robots-Tag:noindex
X-PUBLISHED-TTL:PT1H
BEGIN:VTIMEZONE
TZID:Europe/Paris
BEGIN:DAYLIGHT
TZOFFSETFROM:+0100
TZOFFSETTO:+0200
TZNAME:CEST
DTSTART:20250330T010000
END:DAYLIGHT
BEGIN:STANDARD
TZOFFSETFROM:+0200
TZOFFSETTO:+0100
TZNAME:CET
DTSTART:20251026T010000
END:STANDARD
END:VTIMEZONE
BEGIN:VEVENT
DTSTART;VALUE=DATE:20251101
DTEND;VALUE=DATE:20251201
DTSTAMP:20260421T224623
CREATED:20251103T124822Z
LAST-MODIFIED:20251103T130058Z
UID:23269-1761955200-1764547199@www.alliancefranco-italienne.com
SUMMARY:Le mémo de novembre
DESCRIPTION:  \nhttps://www.alliancefranco-italienne.com/wp-content/uploads/2025/11/MEMO-AFI.docx
URL:https://www.alliancefranco-italienne.com/event/le-memo-de-novembre/
LOCATION:Les infos du mois à l’Alliance Franco-Italienne\, https://www.alliancefranco-italienne.com/lieux-et-horaires/\, Haute-Garonne\, 31
CATEGORIES:Alliance Franco-Italienne,Vie associative
ATTACH;FMTTYPE=image/png:https://www.alliancefranco-italienne.com/wp-content/uploads/2017/02/flash-info.png
ORGANIZER;CN="Alliance Franco-Italienne":MAILTO:contact@alliancefranco-italienne.com
END:VEVENT
END:VCALENDAR