BEGIN:VCALENDAR
VERSION:2.0
PRODID:-//Alliance Franco-Italienne de Midi-Pyrénées - ECPv6.13.1//NONSGML v1.0//EN
CALSCALE:GREGORIAN
METHOD:PUBLISH
X-ORIGINAL-URL:https://www.alliancefranco-italienne.com
X-WR-CALDESC:Évènements pour Alliance Franco-Italienne de Midi-Pyrénées
REFRESH-INTERVAL;VALUE=DURATION:PT1H
X-Robots-Tag:noindex
X-PUBLISHED-TTL:PT1H
BEGIN:VTIMEZONE
TZID:Europe/Paris
BEGIN:DAYLIGHT
TZOFFSETFROM:+0100
TZOFFSETTO:+0200
TZNAME:CEST
DTSTART:20210328T010000
END:DAYLIGHT
BEGIN:STANDARD
TZOFFSETFROM:+0200
TZOFFSETTO:+0100
TZNAME:CET
DTSTART:20211031T010000
END:STANDARD
BEGIN:DAYLIGHT
TZOFFSETFROM:+0100
TZOFFSETTO:+0200
TZNAME:CEST
DTSTART:20220327T010000
END:DAYLIGHT
BEGIN:STANDARD
TZOFFSETFROM:+0200
TZOFFSETTO:+0100
TZNAME:CET
DTSTART:20221030T010000
END:STANDARD
END:VTIMEZONE
BEGIN:VEVENT
DTSTART;VALUE=DATE:20210815
DTEND;VALUE=DATE:20220624
DTSTAMP:20260423T000052
CREATED:20220121T134746Z
LAST-MODIFIED:20220624T144005Z
UID:8671-1628985600-1656028799@www.alliancefranco-italienne.com
SUMMARY:Session 2021-2022 : inscriptions
DESCRIPTION:https://www.alliancefranco-italienne.com/lettre-de-reprise-des-cours-ditalien-georges-faure/\nSession 2021/2022\, plannings et pré-inscriptions :\n\n\n\n\n\n\n\n\n\nles cours reprennent dès le 20 septembre 2021(semaine 38)\, ils auront lieu dans les communes de Castelginest\, Saint-Jory\, Labarthe-sur-Lèze et Pins-Justaret.\nle tableau des cours est consultable dès à présent cliquez ICI\nles pré–inscriptions sont ouvertes à partir du 20 août sur le site en page d’accueil ou dans l’onglet COURS/Inscriptions :  cliquez sur le lien “Formulaire de pré-inscription” pour accéder au formulaire à remplir et VALIDER au bas du formulaire pour voir et  recevoir la confirmation de l’inscription\nles dates des diverses activités seront précisées ultérieurement.\n\nPour tout renseignement : cours@alliancefranco-italienne.com
URL:https://www.alliancefranco-italienne.com/event/session-2021-2022-modalites-dinscriptions-et-lettre-du-president-georges-faure/
LOCATION:Zone C\, France
CATEGORIES:Alliance Franco-Italienne,Scolarité et vacances
ATTACH;FMTTYPE=image/png:https://www.alliancefranco-italienne.com/wp-content/uploads/2021/08/Inscription2122-v.png
ORGANIZER;CN="Alliance Franco-Italienne":MAILTO:contact@alliancefranco-italienne.com
END:VEVENT
END:VCALENDAR