BEGIN:VCALENDAR
VERSION:2.0
PRODID:-//Alliance Franco-Italienne de Midi-Pyrénées - ECPv6.13.1//NONSGML v1.0//EN
CALSCALE:GREGORIAN
METHOD:PUBLISH
X-WR-CALNAME:Alliance Franco-Italienne de Midi-Pyrénées
X-ORIGINAL-URL:https://www.alliancefranco-italienne.com
X-WR-CALDESC:Évènements pour Alliance Franco-Italienne de Midi-Pyrénées
REFRESH-INTERVAL;VALUE=DURATION:PT1H
X-Robots-Tag:noindex
X-PUBLISHED-TTL:PT1H
BEGIN:VTIMEZONE
TZID:Europe/Paris
BEGIN:DAYLIGHT
TZOFFSETFROM:+0100
TZOFFSETTO:+0200
TZNAME:CEST
DTSTART:20210328T010000
END:DAYLIGHT
BEGIN:STANDARD
TZOFFSETFROM:+0200
TZOFFSETTO:+0100
TZNAME:CET
DTSTART:20211031T010000
END:STANDARD
END:VTIMEZONE
BEGIN:VEVENT
DTSTART;VALUE=DATE:20210704
DTEND;VALUE=DATE:20210821
DTSTAMP:20260424T172312
CREATED:20190812T211818Z
LAST-MODIFIED:20210629T075048Z
UID:4016-1625356800-1629503999@www.alliancefranco-italienne.com
SUMMARY:Vacances d'Été
DESCRIPTION:Reprise des actualités  de l’Alliance sur le site  mi-août\, en attendant bon été à tous\, restez vigilants pour une rentrée scolaire italienne mi-septembre en pleine forme ! \n(Les vacances scolaires : reprise le jeudi 2 septembre 2021) \n 
URL:https://www.alliancefranco-italienne.com/event/vacances-dete-du-04-07-20-au-30-08-20/
CATEGORIES:Scolarité et vacances
ATTACH;FMTTYPE=image/png:https://www.alliancefranco-italienne.com/wp-content/uploads/2019/08/ferie2.png
END:VEVENT
END:VCALENDAR