BEGIN:VCALENDAR
VERSION:2.0
PRODID:-//Alliance Franco-Italienne de Midi-Pyrénées - ECPv6.13.1//NONSGML v1.0//EN
CALSCALE:GREGORIAN
METHOD:PUBLISH
X-WR-CALNAME:Alliance Franco-Italienne de Midi-Pyrénées
X-ORIGINAL-URL:https://www.alliancefranco-italienne.com
X-WR-CALDESC:Évènements pour Alliance Franco-Italienne de Midi-Pyrénées
REFRESH-INTERVAL;VALUE=DURATION:PT1H
X-Robots-Tag:noindex
X-PUBLISHED-TTL:PT1H
BEGIN:VTIMEZONE
TZID:Europe/Paris
BEGIN:DAYLIGHT
TZOFFSETFROM:+0100
TZOFFSETTO:+0200
TZNAME:CEST
DTSTART:20240331T010000
END:DAYLIGHT
BEGIN:STANDARD
TZOFFSETFROM:+0200
TZOFFSETTO:+0100
TZNAME:CET
DTSTART:20241027T010000
END:STANDARD
END:VTIMEZONE
BEGIN:VEVENT
DTSTART;TZID=Europe/Paris:20241121T150000
DTEND;TZID=Europe/Paris:20241121T163000
DTSTAMP:20260419T194959
CREATED:20241019T095303Z
LAST-MODIFIED:20241115T133101Z
UID:22729-1732201200-1732206600@www.alliancefranco-italienne.com
SUMMARY:La Chiacchierata di novembre
DESCRIPTION:Argomento: il cibo della domenica…
URL:https://www.alliancefranco-italienne.com/event/la-chiacchierata-di-novembre-2/
LOCATION:Castelginest – Salle Adrienne Boueilh (salle des cours)\, 3 rue des Écoles\, Castelginest\, 31780\, France
CATEGORIES:Alliance Franco-Italienne,Chiacchierata
ATTACH;FMTTYPE=image/png:https://www.alliancefranco-italienne.com/wp-content/uploads/2019/09/Chiacchierata2.png
ORGANIZER;CN="Alliance Franco-Italienne | Club de conversation La Chiacchierata":MAILTO:prenotazioneclub@orange.fr
END:VEVENT
END:VCALENDAR