BEGIN:VCALENDAR
VERSION:2.0
PRODID:-//Alliance Franco-Italienne de Midi-Pyrénées - ECPv6.13.1//NONSGML v1.0//EN
CALSCALE:GREGORIAN
METHOD:PUBLISH
X-WR-CALNAME:Alliance Franco-Italienne de Midi-Pyrénées
X-ORIGINAL-URL:https://www.alliancefranco-italienne.com
X-WR-CALDESC:Évènements pour Alliance Franco-Italienne de Midi-Pyrénées
REFRESH-INTERVAL;VALUE=DURATION:PT1H
X-Robots-Tag:noindex
X-PUBLISHED-TTL:PT1H
BEGIN:VTIMEZONE
TZID:Europe/Paris
BEGIN:DAYLIGHT
TZOFFSETFROM:+0100
TZOFFSETTO:+0200
TZNAME:CEST
DTSTART:20240331T010000
END:DAYLIGHT
BEGIN:STANDARD
TZOFFSETFROM:+0200
TZOFFSETTO:+0100
TZNAME:CET
DTSTART:20241027T010000
END:STANDARD
END:VTIMEZONE
BEGIN:VEVENT
DTSTART;TZID=Europe/Paris:20240502T173000
DTEND;TZID=Europe/Paris:20240502T190000
DTSTAMP:20260420T070852
CREATED:20240422T044529Z
LAST-MODIFIED:20240330T134807Z
UID:22511-1714671000-1714676400@www.alliancefranco-italienne.com
SUMMARY:Bibliothèque de l'Alliance : permanance de 17h30 à 19h00
DESCRIPTION:Afin de faciliter l’accès aux livres (en italien et/ou bilingue) de la bibliothèque le  Bureau de l’association assurera une permanence à Castelginest  le 1er jeudi de chaque mois de 17h30 à 19h00 en périodes scolaires\, soit le 4 avril\, le 2 mai et le 6 juin 2024. \n \nLabarthe et Pins-Justaret :\n \nFaites un choix de livre dans la liste\, dites-le par mail sur contact@alliancefranco-italienne.com en précisant juste votre nom\, titre du livre et l’auteur  et Sylvie vous le  fera passer dans les jours qui suivront le 1er jeudi de chaque mois\n \n\nInfos complémentaires sur :\n \nhttps://www.alliancefranco-italienne.com/bibliotheque-salle-des-cours-de-castelginest/
URL:https://www.alliancefranco-italienne.com/event/bibliotheque-de-lalliance-permanance-de-17h30-a-19h00/
LOCATION:Castelginest – Salle Adrienne Boueilh (salle des cours)\, 3 rue des Écoles\, Castelginest\, 31780\, France
CATEGORIES:Alliance Franco-Italienne,Culturel
ATTACH;FMTTYPE=image/png:https://www.alliancefranco-italienne.com/wp-content/uploads/2019/07/biblio-e1566332814422.png
ORGANIZER;CN="Alliance Franco-Italienne":MAILTO:contact@alliancefranco-italienne.com
END:VEVENT
BEGIN:VEVENT
DTSTART;TZID=Europe/Paris:20240530T143000
DTEND;TZID=Europe/Paris:20240530T160000
DTSTAMP:20260420T070852
CREATED:20240425T161603Z
LAST-MODIFIED:20240519T114308Z
UID:22566-1717079400-1717084800@www.alliancefranco-italienne.com
SUMMARY:La Chiacchierata di maggio
DESCRIPTION:L’argomento : LETTURE CONDIVISE \n• oggi parleremo di ciò che abbiamo letto (ieri o prima di ieri!) : libri non solo italiani ma…di tutti i gusti! \n• per scoprire libri\, generi letterari e autori che forse non avremmo letto altrimenti  \n• e discuteremo dei nostri colpi di cuore o delle nostre delusioni letterarie… \n• scambiamo libri? Ne parliamo…
URL:https://www.alliancefranco-italienne.com/event/la-chiacchierata-di-maggio-3/
LOCATION:Castelginest – Salle Adrienne Boueilh (salle des cours)\, 3 rue des Écoles\, Castelginest\, 31780\, France
CATEGORIES:Alliance Franco-Italienne,Chiacchierata
ATTACH;FMTTYPE=image/png:https://www.alliancefranco-italienne.com/wp-content/uploads/2019/09/Chiacchierata2.png
ORGANIZER;CN="Alliance Franco-Italienne | Club de conversation La Chiacchierata":MAILTO:prenotazioneclub@orange.fr
END:VEVENT
END:VCALENDAR