BEGIN:VCALENDAR
VERSION:2.0
PRODID:-//Alliance Franco-Italienne de Midi-Pyrénées - ECPv6.13.1//NONSGML v1.0//EN
CALSCALE:GREGORIAN
METHOD:PUBLISH
X-ORIGINAL-URL:https://www.alliancefranco-italienne.com
X-WR-CALDESC:Évènements pour Alliance Franco-Italienne de Midi-Pyrénées
REFRESH-INTERVAL;VALUE=DURATION:PT1H
X-Robots-Tag:noindex
X-PUBLISHED-TTL:PT1H
BEGIN:VTIMEZONE
TZID:Europe/Paris
BEGIN:DAYLIGHT
TZOFFSETFROM:+0100
TZOFFSETTO:+0200
TZNAME:CEST
DTSTART:20230326T010000
END:DAYLIGHT
BEGIN:STANDARD
TZOFFSETFROM:+0200
TZOFFSETTO:+0100
TZNAME:CET
DTSTART:20231029T010000
END:STANDARD
END:VTIMEZONE
BEGIN:VEVENT
DTSTART;TZID=Europe/Paris:20231123T143000
DTEND;TZID=Europe/Paris:20231123T160000
DTSTAMP:20260420T171909
CREATED:20231022T125744Z
LAST-MODIFIED:20231121T095802Z
UID:22167-1700749800-1700755200@www.alliancefranco-italienne.com
SUMMARY:La Chiacchierata di novembre (pomeriggio)
DESCRIPTION:L’argomento  (Grazia) \n« Stress e hobby » \n\nCosa fai per ridurre o eliminare lo stress (cosa ti stressa di più?)\nQuali passatempi o attività ti aiutano a rilassarti?\nCome aiutare i giovani ad affrontarlo?\n…\n\nSe non c’è più posto libero è possibile anche participare alla seduta di oggi ma alle 18:30\, con lo stesso argomento\, iscrivetevi o chiamatemi (Giusi-06 10 18 48 69)
URL:https://www.alliancefranco-italienne.com/event/la-chiacchierata-di-novembre-pomeriggio/
LOCATION:Castelginest – Salle Adrienne Boueilh (salle des cours)\, 3 rue des Écoles\, Castelginest\, 31780\, France
CATEGORIES:Alliance Franco-Italienne,Chiacchierata
ATTACH;FMTTYPE=image/png:https://www.alliancefranco-italienne.com/wp-content/uploads/2019/09/Chiacchierata2.png
ORGANIZER;CN="Alliance Franco-Italienne | Club de conversation La Chiacchierata":MAILTO:prenotazioneclub@orange.fr
END:VEVENT
BEGIN:VEVENT
DTSTART;TZID=Europe/Paris:20231123T183000
DTEND;TZID=Europe/Paris:20231123T200000
DTSTAMP:20260420T171909
CREATED:20231022T130023Z
LAST-MODIFIED:20231123T130205Z
UID:22169-1700764200-1700769600@www.alliancefranco-italienne.com
SUMMARY:La Chiacchierata di novembre
DESCRIPTION:Soit 18h30 soit 19h…
URL:https://www.alliancefranco-italienne.com/event/la-chiacchierata-di-novembre-1830/
LOCATION:Castelginest – Salle Adrienne Boueilh (salle des cours)\, 3 rue des Écoles\, Castelginest\, 31780\, France
CATEGORIES:Alliance Franco-Italienne,Chiacchierata
ATTACH;FMTTYPE=image/png:https://www.alliancefranco-italienne.com/wp-content/uploads/2019/09/Chiacchierata2.png
ORGANIZER;CN="Alliance Franco-Italienne | Club de conversation La Chiacchierata":MAILTO:prenotazioneclub@orange.fr
END:VEVENT
END:VCALENDAR