BEGIN:VCALENDAR
VERSION:2.0
PRODID:-//Alliance Franco-Italienne de Midi-Pyrénées - ECPv6.13.1//NONSGML v1.0//EN
CALSCALE:GREGORIAN
METHOD:PUBLISH
X-ORIGINAL-URL:https://www.alliancefranco-italienne.com
X-WR-CALDESC:Évènements pour Alliance Franco-Italienne de Midi-Pyrénées
REFRESH-INTERVAL;VALUE=DURATION:PT1H
X-Robots-Tag:noindex
X-PUBLISHED-TTL:PT1H
BEGIN:VTIMEZONE
TZID:Europe/Paris
BEGIN:DAYLIGHT
TZOFFSETFROM:+0100
TZOFFSETTO:+0200
TZNAME:CEST
DTSTART:20230326T010000
END:DAYLIGHT
BEGIN:STANDARD
TZOFFSETFROM:+0200
TZOFFSETTO:+0100
TZNAME:CET
DTSTART:20231029T010000
END:STANDARD
END:VTIMEZONE
BEGIN:VEVENT
DTSTART;VALUE=DATE:20230919
DTEND;VALUE=DATE:20230927
DTSTAMP:20260422T125508
CREATED:20230903T153841Z
LAST-MODIFIED:20230903T155331Z
UID:22114-1695081600-1695772799@www.alliancefranco-italienne.com
SUMMARY:Voyage :  Les Lacs Italiens et les Dolomites !!!
DESCRIPTION:  \n\n« Du raffinement des grands lacs italiens aux imposantes Dolomites.\nC’est pour vous entraîner dans les majestueuses Dolomites\, sur les places romantiques de Vérone\, mais surtout pour vous offrir la découverte des merveilleux paysages des lacs qu’a été conçu ce circuit. Le lac Majeur et ses romantiques îles Borromées à l’air exotique\, le profond lac de Côme aux rives escarpées\, l’imposant lac de Garde à la clarté extraordinaire\, bordé de ravissantes cités médiévales… autant d’atouts qui répondront aux attentes des amoureux d’une Italie paisible et verdoyante. »
URL:https://www.alliancefranco-italienne.com/event/voyage-voyage-du-19-au-26-septembre-2023-les-lacs-italiens-et-les-dolomites/
LOCATION:Italie\, Italie
CATEGORIES:Alliance Franco-Italienne,Culturel,Vie associative
ATTACH;FMTTYPE=image/jpeg:https://www.alliancefranco-italienne.com/wp-content/uploads/2023/09/lac-de-come-20392.jpg
ORGANIZER;CN="Alliance Franco-Italienne":MAILTO:contact@alliancefranco-italienne.com
END:VEVENT
END:VCALENDAR