BEGIN:VCALENDAR
VERSION:2.0
PRODID:-//Alliance Franco-Italienne de Midi-Pyrénées - ECPv6.13.1//NONSGML v1.0//EN
CALSCALE:GREGORIAN
METHOD:PUBLISH
X-ORIGINAL-URL:https://www.alliancefranco-italienne.com
X-WR-CALDESC:Évènements pour Alliance Franco-Italienne de Midi-Pyrénées
REFRESH-INTERVAL;VALUE=DURATION:PT1H
X-Robots-Tag:noindex
X-PUBLISHED-TTL:PT1H
BEGIN:VTIMEZONE
TZID:Europe/Paris
BEGIN:DAYLIGHT
TZOFFSETFROM:+0100
TZOFFSETTO:+0200
TZNAME:CEST
DTSTART:20230326T010000
END:DAYLIGHT
BEGIN:STANDARD
TZOFFSETFROM:+0200
TZOFFSETTO:+0100
TZNAME:CET
DTSTART:20231029T010000
END:STANDARD
END:VTIMEZONE
BEGIN:VEVENT
DTSTART;TZID=Europe/Paris:20230602T183000
DTEND;TZID=Europe/Paris:20230602T193000
DTSTAMP:20260424T141622
CREATED:20230412T073856Z
LAST-MODIFIED:20230626T142154Z
UID:21854-1685730600-1685734200@www.alliancefranco-italienne.com
SUMMARY:Conférence : Le sculpteur Canova
DESCRIPTION:L’ALLIANCE FRANCO-ITALIENNE de MIDI-PYRENEES \nVous convie à une conférence  (en français) sur : \nLe SCULPTEUR CANOVA et le NÉOCLASSICISME \nAnimée par Bernadette DE PASCALE-DALMAS \nvendredi 2 juin 2023\, à 18h30 \n31780 CASTELGINEST \nLe Néoclassicisme est un mouvement artistique né à Rome\, entre 1750 et 1830 environ. Il toucha tous les domaines artistiques: sculpture\, peinture\, littérature\, architecture\, théâtre et musique. \nAntonio CANOVA (1757-1822) est un sculpteur italien\, de la période néoclassique\, né à Possagno\, dans la région de Venise. Dans sa famille\, tailleurs de pierres depuis des générations\, il apprit\, dès son plus jeune âge\, l’art de la sculpture. Son œuvre\, inspiré de la mythologie grecque et romaine\, est renommé pour la délicatesse et l’élégance des formes et l’équilibre de la composition. La sculpture de Pauline Borghèse en Vénus\, allongée sur un canapé\, est une des ses œuvres les plus connues. Ses sculptures sont conservées en Italie: Venise\, Rome\, Florence\, Naples\, Milan et Possagno\, mais aussi en France\, Angleterre\, Suisse\, Autriche et Etats-Unis. \nParticipation adhérents 5€ – Non adhérents 7€
URL:https://www.alliancefranco-italienne.com/event/conference-le-sculpteur-canova-et-le-neoclassicisme/
LOCATION:Castelginest- Salle Anne-Marie Testou (ex salle des Loisirs)\, Rue des Écoles (face au n° 28 cad à l'école maternelle\, après poste)\, Castelginest\, 31780\, France
CATEGORIES:Alliance Franco-Italienne,Culturel
ATTACH;FMTTYPE=image/jpeg:https://www.alliancefranco-italienne.com/wp-content/uploads/2020/10/villa_borghese.jpg
ORGANIZER;CN="Alliance Franco-Italienne":MAILTO:contact@alliancefranco-italienne.com
END:VEVENT
BEGIN:VEVENT
DTSTART;TZID=Europe/Paris:20230608T183000
DTEND;TZID=Europe/Paris:20230608T200000
DTSTAMP:20260424T141622
CREATED:20230324T162607Z
LAST-MODIFIED:20230531T133829Z
UID:21841-1686249000-1686254400@www.alliancefranco-italienne.com
SUMMARY:La Chiacchierata della serata (18H30/20H00)
DESCRIPTION:L’argomento della seduta: \nE giusto voler modificare\, cancellare\,censurare parole\, immagini\, personaggi\, opere d’arte perché non corrispondono più al modo di pensare odierno o addirittura scandalizzano? \nQuali immagini o parole non sopportate più?
URL:https://www.alliancefranco-italienne.com/event/la-chiacchierata-della-serata/
LOCATION:Castelginest – Salle Adrienne Boueilh (salle des cours)\, 3 rue des Écoles\, Castelginest\, 31780\, France
CATEGORIES:Chiacchierata
ATTACH;FMTTYPE=image/png:https://www.alliancefranco-italienne.com/wp-content/uploads/2019/09/Chiacchierata2.png
ORGANIZER;CN="Alliance Franco-Italienne | Club de conversation La Chiacchierata":MAILTO:prenotazioneclub@orange.fr
END:VEVENT
END:VCALENDAR