BEGIN:VCALENDAR
VERSION:2.0
PRODID:-//Alliance Franco-Italienne de Midi-Pyrénées - ECPv6.13.1//NONSGML v1.0//EN
CALSCALE:GREGORIAN
METHOD:PUBLISH
X-ORIGINAL-URL:https://www.alliancefranco-italienne.com
X-WR-CALDESC:Évènements pour Alliance Franco-Italienne de Midi-Pyrénées
REFRESH-INTERVAL;VALUE=DURATION:PT1H
X-Robots-Tag:noindex
X-PUBLISHED-TTL:PT1H
BEGIN:VTIMEZONE
TZID:Europe/Paris
BEGIN:DAYLIGHT
TZOFFSETFROM:+0100
TZOFFSETTO:+0200
TZNAME:CEST
DTSTART:20230326T010000
END:DAYLIGHT
BEGIN:STANDARD
TZOFFSETFROM:+0200
TZOFFSETTO:+0100
TZNAME:CET
DTSTART:20231029T010000
END:STANDARD
END:VTIMEZONE
BEGIN:VEVENT
DTSTART;TZID=Europe/Paris:20230525T143000
DTEND;TZID=Europe/Paris:20230525T160000
DTSTAMP:20260424T160133
CREATED:20230321T162012Z
LAST-MODIFIED:20230521T125049Z
UID:21838-1685025000-1685030400@www.alliancefranco-italienne.com
SUMMARY:La Chiacchierata di maggio
DESCRIPTION:Tematica: Uomo e Natura\, convivenza possibile? \n(Natura: Il sistema totale degli esseri viventi\, animali e vegetali) \n1) Il rapporto tra uomo e natura è in equilibri oppure no ? \n2) La natura sembra ribellarsi contro l’azione umana (alluvioni\, terremoti\, tsunami\, cicloni\, ecc.) Semplici calamità o conseguenze dell’azione  umana nei riguardi dell’ambiente? \n3) I cambiamenti climatici ci hanno avvicinati alle tematiche ambientali però la produttività e le abitudini\, difficili da cambiare\, prendono il sopravvento?
URL:https://www.alliancefranco-italienne.com/event/la-chiacchierata-di-maggio-2/
LOCATION:Castelginest – Salle Adrienne Boueilh (salle des cours)\, 3 rue des Écoles\, Castelginest\, 31780\, France
CATEGORIES:Chiacchierata
ATTACH;FMTTYPE=image/png:https://www.alliancefranco-italienne.com/wp-content/uploads/2019/09/Chiacchierata2.png
ORGANIZER;CN="Alliance Franco-Italienne | Club de conversation La Chiacchierata":MAILTO:prenotazioneclub@orange.fr
END:VEVENT
END:VCALENDAR