BEGIN:VCALENDAR
VERSION:2.0
PRODID:-//Alliance Franco-Italienne de Midi-Pyrénées - ECPv6.13.1//NONSGML v1.0//EN
CALSCALE:GREGORIAN
METHOD:PUBLISH
X-ORIGINAL-URL:https://www.alliancefranco-italienne.com
X-WR-CALDESC:Évènements pour Alliance Franco-Italienne de Midi-Pyrénées
REFRESH-INTERVAL;VALUE=DURATION:PT1H
X-Robots-Tag:noindex
X-PUBLISHED-TTL:PT1H
BEGIN:VTIMEZONE
TZID:Europe/Paris
BEGIN:DAYLIGHT
TZOFFSETFROM:+0100
TZOFFSETTO:+0200
TZNAME:CEST
DTSTART:20260329T010000
END:DAYLIGHT
BEGIN:STANDARD
TZOFFSETFROM:+0200
TZOFFSETTO:+0100
TZNAME:CET
DTSTART:20261025T010000
END:STANDARD
END:VTIMEZONE
BEGIN:VEVENT
DTSTART;TZID=Europe/Paris:20260104T080000
DTEND;TZID=Europe/Paris:20260131T170000
DTSTAMP:20260419T180220
CREATED:20260104T143111Z
LAST-MODIFIED:20260105T075504Z
UID:23432-1767513600-1769878800@www.alliancefranco-italienne.com
SUMMARY:Le Mémo de janvier
DESCRIPTION:LE MÉMO DE JANVIER 2026
URL:https://www.alliancefranco-italienne.com/event/le-memo-de-janvier/
LOCATION:Les infos du mois à l’Alliance Franco-Italienne\, https://www.alliancefranco-italienne.com/lieux-et-horaires/\, Haute-Garonne\, 31
CATEGORIES:Alliance Franco-Italienne,Vie associative
ATTACH;FMTTYPE=image/png:https://www.alliancefranco-italienne.com/wp-content/uploads/2017/02/flash-info.png
ORGANIZER;CN="Alliance Franco-Italienne":MAILTO:contact@alliancefranco-italienne.com
END:VEVENT
BEGIN:VEVENT
DTSTART;TZID=Europe/Paris:20260115T143000
DTEND;TZID=Europe/Paris:20260115T163000
DTSTAMP:20260419T180220
CREATED:20260104T134921Z
LAST-MODIFIED:20260104T134921Z
UID:23422-1768487400-1768494600@www.alliancefranco-italienne.com
SUMMARY:Lo Scarabeo di gennaio
DESCRIPTION:
URL:https://www.alliancefranco-italienne.com/event/lo-scarabeo-di-gennaio-5/
LOCATION:Castelginest – Salle Adrienne Boueilh (salle des cours)\, 3 rue des Écoles\, Castelginest\, 31780\, France
CATEGORIES:Alliance Franco-Italienne,Scarabeo
ATTACH;FMTTYPE=image/png:https://www.alliancefranco-italienne.com/wp-content/uploads/2018/05/Scarabeo.png
ORGANIZER;CN="Alliance Franco-Italienne":MAILTO:contact@alliancefranco-italienne.com
END:VEVENT
BEGIN:VEVENT
DTSTART;TZID=Europe/Paris:20260116T193000
DTEND;TZID=Europe/Paris:20260116T233000
DTSTAMP:20260419T180220
CREATED:20260104T135937Z
LAST-MODIFIED:20260104T140020Z
UID:23425-1768591800-1768606200@www.alliancefranco-italienne.com
SUMMARY:Repas partagé-Galette des Rois
DESCRIPTION:Inscrivez-vous auprès de votre délégué de cours en apportant 5 euros par personne…
URL:https://www.alliancefranco-italienne.com/event/repas-partage-galette-des-rois/
LOCATION:Castelginest – Salle polyvalente Joséphine Baker\, 4 chemin des Barrières\, Castelginest\, 31780\, France
CATEGORIES:Alliance Franco-Italienne,Festivités
ATTACH;FMTTYPE=image/jpeg:https://www.alliancefranco-italienne.com/wp-content/uploads/2026/01/galette.jpg
ORGANIZER;CN="Alliance Franco-Italienne":MAILTO:contact@alliancefranco-italienne.com
END:VEVENT
BEGIN:VEVENT
DTSTART;TZID=Europe/Paris:20260122T150000
DTEND;TZID=Europe/Paris:20260122T163000
DTSTAMP:20260419T180220
CREATED:20260104T141156Z
LAST-MODIFIED:20260113T174821Z
UID:23429-1769094000-1769099400@www.alliancefranco-italienne.com
SUMMARY:La Chiacchierata di gennaio
DESCRIPTION:L’argomento: i buoni propositi per l’anno nuovo (les bonnes résolutions…)
URL:https://www.alliancefranco-italienne.com/event/la-chiacchierata-di-gennaio-3/
LOCATION:Castelginest – Salle Adrienne Boueilh (salle des cours)\, 3 rue des Écoles\, Castelginest\, 31780\, France
CATEGORIES:Alliance Franco-Italienne,Chiacchierata
ATTACH;FMTTYPE=image/png:https://www.alliancefranco-italienne.com/wp-content/uploads/2019/09/Chiacchierata2.png
ORGANIZER;CN="Alliance Franco-Italienne | Club de conversation La Chiacchierata":MAILTO:prenotazioneclub@orange.fr
END:VEVENT
END:VCALENDAR