BEGIN:VCALENDAR
VERSION:2.0
PRODID:-//Alliance Franco-Italienne de Midi-Pyrénées - ECPv6.13.1//NONSGML v1.0//EN
CALSCALE:GREGORIAN
METHOD:PUBLISH
X-WR-CALNAME:Alliance Franco-Italienne de Midi-Pyrénées
X-ORIGINAL-URL:https://www.alliancefranco-italienne.com
X-WR-CALDESC:Évènements pour Alliance Franco-Italienne de Midi-Pyrénées
REFRESH-INTERVAL;VALUE=DURATION:PT1H
X-Robots-Tag:noindex
X-PUBLISHED-TTL:PT1H
BEGIN:VTIMEZONE
TZID:Europe/Paris
BEGIN:DAYLIGHT
TZOFFSETFROM:+0100
TZOFFSETTO:+0200
TZNAME:CEST
DTSTART:20250330T010000
END:DAYLIGHT
BEGIN:STANDARD
TZOFFSETFROM:+0200
TZOFFSETTO:+0100
TZNAME:CET
DTSTART:20251026T010000
END:STANDARD
END:VTIMEZONE
BEGIN:VEVENT
DTSTART;TZID=Europe/Paris:20250612T143000
DTEND;TZID=Europe/Paris:20250612T163000
DTSTAMP:20260420T060654
CREATED:20250409T101847Z
LAST-MODIFIED:20250409T101847Z
UID:22939-1749738600-1749745800@www.alliancefranco-italienne.com
SUMMARY:Scarabeo di giugno
DESCRIPTION:
URL:https://www.alliancefranco-italienne.com/event/scarabeo-di-giugno-2/
LOCATION:Castelginest – Salle Adrienne Boueilh (salle des cours)\, 3 rue des Écoles\, Castelginest\, 31780\, France
CATEGORIES:Alliance Franco-Italienne,Scarabeo
ATTACH;FMTTYPE=image/png:https://www.alliancefranco-italienne.com/wp-content/uploads/2018/05/Scarabeo.png
ORGANIZER;CN="Alliance Franco-Italienne":MAILTO:contact@alliancefranco-italienne.com
END:VEVENT
BEGIN:VEVENT
DTSTART;TZID=Europe/Paris:20250620T190000
DTEND;TZID=Europe/Paris:20250620T190000
DTSTAMP:20260420T060654
CREATED:20250618T111401Z
LAST-MODIFIED:20250618T111518Z
UID:23046-1750446000-1750446000@www.alliancefranco-italienne.com
SUMMARY:La fête des cours
DESCRIPTION:
URL:https://www.alliancefranco-italienne.com/event/la-fete-des-cours/
LOCATION:Castelginest – Salle polyvalente Joséphine Baker\, 4 chemin des Barrières\, Castelginest\, 31780\, France
CATEGORIES:Alliance Franco-Italienne,Festivités
ATTACH;FMTTYPE=image/jpeg:https://www.alliancefranco-italienne.com/wp-content/uploads/2022/04/Photo-salle-2-2.jpg
ORGANIZER;CN="Alliance Franco-Italienne":MAILTO:contact@alliancefranco-italienne.com
END:VEVENT
END:VCALENDAR