BEGIN:VCALENDAR
VERSION:2.0
PRODID:-//Alliance Franco-Italienne de Midi-Pyrénées - ECPv6.13.1//NONSGML v1.0//EN
CALSCALE:GREGORIAN
METHOD:PUBLISH
X-WR-CALNAME:Alliance Franco-Italienne de Midi-Pyrénées
X-ORIGINAL-URL:https://www.alliancefranco-italienne.com
X-WR-CALDESC:Évènements pour Alliance Franco-Italienne de Midi-Pyrénées
REFRESH-INTERVAL;VALUE=DURATION:PT1H
X-Robots-Tag:noindex
X-PUBLISHED-TTL:PT1H
BEGIN:VTIMEZONE
TZID:Europe/Paris
BEGIN:DAYLIGHT
TZOFFSETFROM:+0100
TZOFFSETTO:+0200
TZNAME:CEST
DTSTART:20240331T010000
END:DAYLIGHT
BEGIN:STANDARD
TZOFFSETFROM:+0200
TZOFFSETTO:+0100
TZNAME:CET
DTSTART:20241027T010000
END:STANDARD
END:VTIMEZONE
BEGIN:VEVENT
DTSTART;TZID=Europe/Paris:20240907T140000
DTEND;TZID=Europe/Paris:20240907T180000
DTSTAMP:20260422T202323
CREATED:20240902T181732Z
LAST-MODIFIED:20240902T181831Z
UID:22689-1725717600-1725732000@www.alliancefranco-italienne.com
SUMMARY:FORUM des associations
DESCRIPTION:
URL:https://www.alliancefranco-italienne.com/event/forum-des-associations-2/
LOCATION:Castelginest – Salle polyvalente Joséphine Baker\, 4 chemin des Barrières\, Castelginest\, 31780\, France
CATEGORIES:Alliance Franco-Italienne
ATTACH;FMTTYPE=image/png:https://www.alliancefranco-italienne.com/wp-content/uploads/2021/08/Forums.png
ORGANIZER;CN="Alliance Franco-Italienne":MAILTO:contact@alliancefranco-italienne.com
END:VEVENT
BEGIN:VEVENT
DTSTART;VALUE=DATE:20240917
DTEND;VALUE=DATE:20240918
DTSTAMP:20260422T202324
CREATED:20240902T174614Z
LAST-MODIFIED:20240912T084428Z
UID:22685-1726531200-1726617599@www.alliancefranco-italienne.com
SUMMARY:La rentrée italienne
DESCRIPTION:Reprise des cours à partir du mardi 17 septembre 2024\, bonne rentrée à tous !!! \nVoir détails sur lieux et horaires : Lieux et horaires 2024-2025 (alliancefranco-italienne.com)
URL:https://www.alliancefranco-italienne.com/event/la-rentree-italienne/
LOCATION:Zone C\, France
CATEGORIES:Alliance Franco-Italienne
ATTACH;FMTTYPE=image/png:https://www.alliancefranco-italienne.com/wp-content/uploads/2019/09/è-lora-del-rientro-600x400-e1568032799505.png
ORGANIZER;CN="Alliance Franco-Italienne":MAILTO:contact@alliancefranco-italienne.com
END:VEVENT
END:VCALENDAR