BEGIN:VCALENDAR
VERSION:2.0
PRODID:-//Alliance Franco-Italienne de Midi-Pyrénées - ECPv6.13.1//NONSGML v1.0//EN
CALSCALE:GREGORIAN
METHOD:PUBLISH
X-ORIGINAL-URL:https://www.alliancefranco-italienne.com
X-WR-CALDESC:Évènements pour Alliance Franco-Italienne de Midi-Pyrénées
REFRESH-INTERVAL;VALUE=DURATION:PT1H
X-Robots-Tag:noindex
X-PUBLISHED-TTL:PT1H
BEGIN:VTIMEZONE
TZID:Europe/Paris
BEGIN:DAYLIGHT
TZOFFSETFROM:+0100
TZOFFSETTO:+0200
TZNAME:CEST
DTSTART:20250330T010000
END:DAYLIGHT
BEGIN:STANDARD
TZOFFSETFROM:+0200
TZOFFSETTO:+0100
TZNAME:CET
DTSTART:20251026T010000
END:STANDARD
END:VTIMEZONE
BEGIN:VEVENT
DTSTART;TZID=Europe/Paris:20251108T203000
DTEND;TZID=Europe/Paris:20251108T223000
DTSTAMP:20260420T174612
CREATED:20250901T164033Z
LAST-MODIFIED:20250901T164351Z
UID:23171-1762633800-1762641000@www.alliancefranco-italienne.com
SUMMARY:Les Inoubliables- musique de films
DESCRIPTION:
URL:https://www.alliancefranco-italienne.com/event/les-inoubliables/
LOCATION:CASTELNAUDARY
CATEGORIES:Manifestations italiennes autour de nous
ATTACH;FMTTYPE=image/jpeg:https://www.alliancefranco-italienne.com/wp-content/uploads/2025/09/541124167_24603006092664329_1180164975894829937_n.jpg
END:VEVENT
BEGIN:VEVENT
DTSTART;TZID=Europe/Paris:20251115T140000
DTEND;TZID=Europe/Paris:20251115T180000
DTSTAMP:20260420T174612
CREATED:20251103T135000Z
LAST-MODIFIED:20251103T135714Z
UID:23278-1763215200-1763229600@www.alliancefranco-italienne.com
SUMMARY:Conférence-débat : "Un après-midi avec Casanova"
DESCRIPTION:À Toulouse\,  salle Clémence Isaure\, Hôtel d‘Assézat \nLe programme : \nhttps://www.alliancefranco-italienne.com/wp-content/uploads/2025/11/Programme.docx\n« Bonjour.\nJe vous transmets l’information de la demi-journée d’études sur Casanova organisée par nos collègues Yves Le Pestipon et Jean-Luc Nardone\, qui aura lieu à l’Hôtel d’Assézat le samedi 15 novembre de 14h à 18h. \nVoici la présentation:\nCasanova est né voici trois siècles\, en 1725. Ce vénitien\, qui écrivit beaucoup en français\, est immensément célèbre. Il est devenu une sorte de mythe\, qui circule partout\, et dont le cinéma et les langues ont fait grand usage. Il est sans doute temps de le lire plus complétement\, plus précisément\, ce que permettent de nouvelles éditions et des travaux critiques. Cet « Après-midi Casanova » sera l’occasion pour approcher les textes\, l’homme\, les représentations. L’Université Jean Jaurès et l’Académie des Sciences et Belles-Lettres de Toulouse se sont associées pour proposer cet événement\, qui sera l’occasion d’entendre l‘éditeur le plus récent d’Histoire de ma vie\, son collègue dans l’édition de lettres à des femmes\, une spécialiste de la culture italienne actuelle\, un passionné d’explications de texte     \nEn pièce jointe le programme.\nVenez nombreux et nombreuses!\n \n \nAntonella Capra\n Professeure des Universités en Etudes italiennes\nDépartement des Langues EtrangèresUniversité Toulouse-Jean Jaurèshttp://italien.univ-tlse2.Directrice de l’équipe Il Laboratorio\nhttps://laboratorio.univ-tlse2.fr/Directrice provisoire du CIAM\nhttps://culture.univ-tlse2.fr/Co-directrice de la collection Nouvelles Scènes-italienhttp://pum.univ-tlse2.fr/-Theatre-.html#108″
URL:https://www.alliancefranco-italienne.com/event/conference-debat-un-apres-midi-avec-casanova/
LOCATION:Toulouse\, France
CATEGORIES:Manifestations italiennes autour de nous
ATTACH;FMTTYPE=image/jpeg:https://www.alliancefranco-italienne.com/wp-content/uploads/2025/11/Casanova.jpg
END:VEVENT
BEGIN:VEVENT
DTSTART;VALUE=DATE:20251128
DTEND;VALUE=DATE:20251207
DTSTAMP:20260420T174612
CREATED:20250830T142803Z
LAST-MODIFIED:20251118T182820Z
UID:23162-1764288000-1765065599@www.alliancefranco-italienne.com
SUMMARY:Rencontres du cinéma italien
DESCRIPTION:Le programme complet : programme-web-2-ok.pdf
URL:https://www.alliancefranco-italienne.com/event/rencontres-du-cinema-italien-toulouse-et-peripherie/
LOCATION:Toulouse – Cinéma ABC et autres en périphérie\, 13\, rue Saint-Bernard\, Toulouse et périphérie\, 31000\, France
CATEGORIES:Manifestations italiennes autour de nous
ATTACH;FMTTYPE=image/jpeg:https://www.alliancefranco-italienne.com/wp-content/uploads/2025/08/Rencontres-du-cinema-italien-toulouse-et-peripherie.jpg
END:VEVENT
END:VCALENDAR