BEGIN:VCALENDAR
VERSION:2.0
PRODID:-//Alliance Franco-Italienne de Midi-Pyrénées - ECPv6.13.1//NONSGML v1.0//EN
CALSCALE:GREGORIAN
METHOD:PUBLISH
X-ORIGINAL-URL:https://www.alliancefranco-italienne.com
X-WR-CALDESC:Évènements pour Alliance Franco-Italienne de Midi-Pyrénées
REFRESH-INTERVAL;VALUE=DURATION:PT1H
X-Robots-Tag:noindex
X-PUBLISHED-TTL:PT1H
BEGIN:VTIMEZONE
TZID:Europe/Paris
BEGIN:DAYLIGHT
TZOFFSETFROM:+0100
TZOFFSETTO:+0200
TZNAME:CEST
DTSTART:20250330T010000
END:DAYLIGHT
BEGIN:STANDARD
TZOFFSETFROM:+0200
TZOFFSETTO:+0100
TZNAME:CET
DTSTART:20251026T010000
END:STANDARD
END:VTIMEZONE
BEGIN:VEVENT
DTSTART;VALUE=DATE:20250903
DTEND;VALUE=DATE:20250908
DTSTAMP:20260422T130949
CREATED:20250716T150048Z
LAST-MODIFIED:20250716T150048Z
UID:23157-1756857600-1757289599@www.alliancefranco-italienne.com
SUMMARY:Les Italiennes\, marché artisanal et gastronomique
DESCRIPTION:« Une institution en septembre\, durant 5 jours au jardin de Ferrières. Le village italien accueille les mille savoir-faire des artisans italiens. Musique\, animations et restauration. Déambulation des Masqués vénitiens.\nAutour des tentations gastronomiques de tous ordres (pâtes\, fromages\, charcuteries\, confiseries\, vins fins…)\, des créations d’art vestimentaire\, maroquinier ou décoratif rivalisent de séduction.  \nUn complément idéal à l’événement sur lequel se greffent ces « italiennes » : l’inimitable déambulation des Masqués Vénitiens. \nDeux rendez-vous pour une même invitation : à savourer sans retenue !\n\n\nPériode(s) d’ouverture Du mercredi 3 au dimanche 7 septembre 2025 \nOuverture le mercredi de 11h30 à 20h. Le jeudi de 10h à 20h. Le vendredi et samedi de 10h à 23h. Le dimanche de 10h à 19h. »
URL:https://www.alliancefranco-italienne.com/event/les-italiennes-marche-artisanal-et-gastronomique/
LOCATION:Martigues – Jardin de Ferrières\, rue du Colonel Fabien\, MARTIGUES\, 13500\, France
CATEGORIES:Manifestations italiennes autour de nous
ATTACH;FMTTYPE=image/jpeg:https://www.alliancefranco-italienne.com/wp-content/uploads/2025/07/800x600_514208-17983006.jpg
END:VEVENT
BEGIN:VEVENT
DTSTART;VALUE=DATE:20250906
DTEND;VALUE=DATE:20250915
DTSTAMP:20260422T130949
CREATED:20250715T143028Z
LAST-MODIFIED:20250715T143028Z
UID:23139-1757116800-1757894399@www.alliancefranco-italienne.com
SUMMARY:Marché Italien
DESCRIPTION:
URL:https://www.alliancefranco-italienne.com/event/marche-italien-2/
LOCATION:Fleurance\, Fleurance\, 32500\, France
CATEGORIES:Manifestations italiennes autour de nous
ATTACH;FMTTYPE=image/jpeg:https://www.alliancefranco-italienne.com/wp-content/uploads/2025/07/Marche-italien.jpeg
END:VEVENT
END:VCALENDAR