BEGIN:VCALENDAR
VERSION:2.0
PRODID:-//Alliance Franco-Italienne de Midi-Pyrénées - ECPv6.13.1//NONSGML v1.0//EN
CALSCALE:GREGORIAN
METHOD:PUBLISH
X-ORIGINAL-URL:https://www.alliancefranco-italienne.com
X-WR-CALDESC:Évènements pour Alliance Franco-Italienne de Midi-Pyrénées
REFRESH-INTERVAL;VALUE=DURATION:PT1H
X-Robots-Tag:noindex
X-PUBLISHED-TTL:PT1H
BEGIN:VTIMEZONE
TZID:Europe/Paris
BEGIN:DAYLIGHT
TZOFFSETFROM:+0100
TZOFFSETTO:+0200
TZNAME:CEST
DTSTART:20250330T010000
END:DAYLIGHT
BEGIN:STANDARD
TZOFFSETFROM:+0200
TZOFFSETTO:+0100
TZNAME:CET
DTSTART:20251026T010000
END:STANDARD
END:VTIMEZONE
BEGIN:VEVENT
DTSTART;VALUE=DATE:20250823
DTEND;VALUE=DATE:20250901
DTSTAMP:20260422T144306
CREATED:20250715T142821Z
LAST-MODIFIED:20250715T150507Z
UID:23136-1755907200-1756684799@www.alliancefranco-italienne.com
SUMMARY:Marché Italien
DESCRIPTION:« Retrouvez le village Italien avec les nombreuses spécialités italiennes telles que la gastronomie\, l’artisanat d’art\, dans le cœur de ville de Bergerac. \nLe village artisanal sera présent du 23 au 31 août 202 place de la République de 10h à 21h. \nOrganisé par le comité de jumelage Bergerac-Faenza et l’association Villart. »
URL:https://www.alliancefranco-italienne.com/event/marche-italien/
LOCATION:Bergerac\, Bergerac\, 24100\, France
CATEGORIES:Manifestations italiennes autour de nous
ATTACH;FMTTYPE=image/jpeg:https://www.alliancefranco-italienne.com/wp-content/uploads/2025/07/Marche-italien.jpeg
END:VEVENT
END:VCALENDAR